{
 "currentVersion": 11.5,
 "serviceDescription": "LES_REFARDES_MDT",
 "serviceItemId": "ad3afd433b7f464996f9daa09aa32c1e",
 "name": "LES_REFARDES_MDT",
 "description": "",
 "extent": {
  "xmin": 415795.93227710016,
  "ymin": 4614561.742936958,
  "xmax": 417864.03227710014,
  "ymax": 4619449.142936957,
  "spatialReference": {
   "wkid": 25831,
   "latestWkid": 25831
  }
 },
 "initialExtent": {
  "xmin": 415795.93227710016,
  "ymin": 4614561.742936958,
  "xmax": 417864.03227710014,
  "ymax": 4619449.142936957,
  "spatialReference": {
   "wkid": 25831,
   "latestWkid": 25831
  }
 },
 "fullExtent": {
  "xmin": 415795.93227710016,
  "ymin": 4614561.742936958,
  "xmax": 417864.03227710014,
  "ymax": 4619449.142936957,
  "spatialReference": {
   "wkid": 25831,
   "latestWkid": 25831
  }
 },
 "sortableFields": "",
 "bandCount": 1,
 "pixelType": "F32",
 "minValues": [
  482.8380126953125
 ],
 "maxValues": [
  708.6927490234375
 ],
 "meanValues": [
  589.1921943563024
 ],
 "stdvValues": [
  47.06398448468532
 ],
 "serviceProperties": "Center<\/MosaicMethod>First<\/MosaicOperator>true<\/SortAscending><\/LockImageID><\/TileOrderField>0<\/TileOrderBase>0,000000<\/AvgImageSpacingX>0,000000<\/AvgImageSpacingY>0.0<\/ViewPointX>0.0<\/ViewPointY>0.0<\/ViewPointDefShiftX>0.0<\/ViewPointDefShiftY>None<\/CompressionMethod>75<\/CompressionQuality>0,010000<\/CompressionTolerance>Bilinear<\/SamplingMethod><\/ImageServiceProperties><\/ImageServer>",
 "allowedFields": "",
 "hasMultidimensions": false,
 "pixelSizeX": 0.09999999999999887,
 "pixelSizeY": 0.09999999999998857,
 "meanPixelSize": 0.09999999999999372,
 "datasetFormat": "SDR",
 "uncompressedSize": 4043052776,
 "blockWidth": 128,
 "blockHeight": 128,
 "compressionType": "LZ77",
 "bandNames": [
  "Band_1"
 ],
 "allowCopy": true,
 "allowAnalysis": true,
 "itemAccess": false,
 "inspectionCapabilities": "",
 "minPixelSize": 0,
 "maxPixelSize": 0,
 "copyrightText": "",
 "serviceDataType": "esriImageServiceDataTypeElevation",
 "serviceSourceType": "esriImageServiceSourceTypeDataset",
 "objectIdField": "",
 "fields": [],
 "capabilities": "Image,Metadata,Mensuration",
 "defaultMosaicMethod": "Center",
 "allowedMosaicMethods": "",
 "sortField": "",
 "sortValue": null,
 "sortAscending": true,
 "mosaicOperator": "First",
 "defaultCompressionQuality": 75,
 "defaultResamplingMethod": "Bilinear",
 "maxImageHeight": 4100,
 "maxImageWidth": 15000,
 "allowRasterFunction": true,
 "rasterFunctionInfos": [
  {
   "name": "None",
   "description": "",
   "help": ""
  }
 ],
 "rasterTypeInfos": [
  {
   "name": "Raster Dataset",
   "description": "Supports all ArcGIS Raster Datasets",
   "help": ""
  }
 ],
 "mensurationCapabilities": "Basic",
 "hasHistograms": true,
 "hasColormap": false,
 "hasRasterAttributeTable": false,
 "minScale": 0,
 "maxScale": 0,
 "exportTilesAllowed": false,
 "supportsStatistics": false,
 "supportsAdvancedQueries": false,
 "editFieldsInfo": null,
 "ownershipBasedAccessControlForRasters": null,
 "allowComputeTiePoints": false,
 "useStandardizedQueries": true,
 "advancedQueryCapabilities": {
  "useStandardizedQueries": true,
  "supportsStatistics": false,
  "supportsOrderBy": false,
  "supportsDistinct": false,
  "supportsPagination": false
 },
 "spatialReference": {
  "wkid": 25831,
  "latestWkid": 25831
 }
}
