View In:
ArcGIS JavaScript
Portal for ArcGIS Map viewer
ArcGIS Earth
Service Description: LES_REFARDES_MDT
Name: LES_REFARDES_MDT
Description:
Single Fused Map Cache: false
Extent:
XMin: 415795.93227710016
YMin: 4614561.742936958
XMax: 417864.03227710014
YMax: 4619449.142936957
Spatial Reference: 25831
(25831)
LatestVCSWkid(0)
Initial Extent:
XMin: 415795.93227710016
YMin: 4614561.742936958
XMax: 417864.03227710014
YMax: 4619449.142936957
Spatial Reference: 25831
(25831)
LatestVCSWkid(0)
Full Extent:
XMin: 415795.93227710016
YMin: 4614561.742936958
XMax: 417864.03227710014
YMax: 4619449.142936957
Spatial Reference: 25831
(25831)
LatestVCSWkid(0)
Pixel Size X: 0.09999999999999887
Pixel Size Y: 0.09999999999998857
Band Count: 1
Pixel Type: F32
RasterFunction Infos: {"rasterFunctionInfos": [{
"name": "None",
"description": "",
"help": ""
}]}
Mensuration Capabilities: Basic
Inspection Capabilities:
Has Histograms: true
Has Colormap: false
Has Multi Dimensions : false
Rendering Rule:
Min Scale: 0
Max Scale: 0
Copyright Text:
Service Data Type: esriImageServiceDataTypeElevation
Min Values: 482.8380126953125
Max Values: 708.6927490234375
Mean Values: 589.1921943563024
Standard Deviation Values: 47.06398448468532
Object ID Field:
Fields:
None
Default Mosaic Method: Center
Allowed Mosaic Methods:
SortField:
SortValue: null
Mosaic Operator: First
Default Compression Quality: 75
Default Resampling Method: Bilinear
Max Record Count: null
Max Image Height: 4100
Max Image Width: 15000
Max Download Image Count: null
Max Mosaic Image Count: null
Allow Raster Function: true
Allow Copy: true
Allow Analysis: true
Allow Compute TiePoints: false
Supports Statistics: false
Supports Advanced Queries: false
Use StandardizedQueries: true
Raster Type Infos:
Name: Raster Dataset
Description: Supports all ArcGIS Raster Datasets
Help:
Has Raster Attribute Table: false
Edit Fields Info: null
Ownership Based AccessControl For Rasters: null
Child Resources:
Info
Histograms
Statistics
Key Properties
Legend
Raster Function Infos
Supported Operations:
Export Image
Identify
Measure
Compute Histograms
Compute Statistics Histograms
Get Samples
Compute Class Statistics
Query Boundary
Compute Pixel Location
Compute Angles
Validate
Project
Calculate Volume